BEGIN:VCALENDAR
PRODID:-//github.com/ical-org/ical.net//NONSGML ical.net 4.0//EN
VERSION:2.0
BEGIN:VEVENT
DTEND:20260604T193000
DTSTAMP:20260401T152421Z
DTSTART:20260604T170000
LOCATION:Location in Tampa to be Announced
SEQUENCE:0
SUMMARY:I Survived the CFA Exam - June
UID:960c38a8-edf6-4398-93a5-6e0dfe8cb0de
BEGIN:VALARM
ACTION:DISPLAY
SUMMARY:I Survived the CFA Exam - June
TRIGGER:-PT30M
END:VALARM
END:VEVENT
BEGIN:VTIMEZONE
TZID:America/New_York
X-LIC-LOCATION:America/New_York
END:VTIMEZONE
END:VCALENDAR

